BEGIN:VCALENDAR
VERSION:2.0
METHOD:PUBLISH
PRODID:-//Ford Muscle Car Club//
BEGIN:VEVENT
METHOD:PUBLISH
DTSTART:2017-03-01T06:30:00Z
DTEND:2017-03-01T07:30:00Z
SUMMARY:Club Meeting
UID:1
DESCRIPTION:Club Meeting\n\nClub Meeting at the Street Rodders Club Room  Cherokee Place Mount Maunganui\, starting at 7\:30 p.m. \nAll Welcome
CLASS:PUBLIC
STATUS:CONFIRMED
END:VEVENT
BEGIN:VEVENT
METHOD:PUBLISH
DTSTART:2017-04-05T07:30:00Z
DTEND:2017-04-05T08:30:00Z
SUMMARY:Club AGM
UID:2
DESCRIPTION:Club AGM\n\nClub Meeting at the Street Rodders Club Room  Cherokee Place Mount Maunganui\, starting at 7\:30 p.m. \nAll Welcome
CLASS:PUBLIC
STATUS:CONFIRMED
END:VEVENT
BEGIN:VEVENT
METHOD:PUBLISH
DTSTART:2017-03-04T21:00:00Z
DTEND:2017-03-05T01:30:00Z
SUMMARY:All Ford Day
UID:3
DESCRIPTION:All Ford Day 2017
CLASS:PUBLIC
STATUS:CONFIRMED
END:VEVENT
BEGIN:VEVENT
METHOD:PUBLISH
DTSTART:2017-09-30T18:30:00Z
DTEND:2017-10-01T03:30:00Z
SUMMARY:Track Day
UID:4
DESCRIPTION:Track Day
CLASS:PUBLIC
STATUS:CONFIRMED
END:VEVENT
BEGIN:VEVENT
METHOD:PUBLISH
DTSTART:2017-06-07T07:30:00Z
DTEND:2017-06-07T09:00:00Z
SUMMARY:Club Meeting
UID:5
DESCRIPTION:Club Meeting at the Street Rodders Club Room  Cherokee Place Mount Maunganui\, starting at 7\:30 p.m. \nAll Welcome
CLASS:PUBLIC
STATUS:CONFIRMED
END:VEVENT
BEGIN:VEVENT
METHOD:PUBLISH
DTSTART:2017-06-24T21:00:00Z
DTEND:2017-06-25T02:00:00Z
SUMMARY:Bay Rodders Swap Meet
UID:6
DESCRIPTION:Car show Spring Street Parking building
CLASS:PUBLIC
STATUS:CONFIRMED
END:VEVENT
BEGIN:VEVENT
METHOD:PUBLISH
DTSTART:2017-07-05T07:30:00Z
DTEND:2017-07-05T08:30:00Z
SUMMARY:Club Meeting
UID:7
DESCRIPTION:Club Meeting
CLASS:PUBLIC
STATUS:CONFIRMED
END:VEVENT
BEGIN:VEVENT
METHOD:PUBLISH
DTSTART:2017-09-06T07:30:00Z
DTEND:2017-09-06T08:30:00Z
SUMMARY:Club Meeting
UID:8
DESCRIPTION:Club Meeting at the Street Rodders Club Room  Cherokee Place Mount Maunganui\, starting at 7\:30 p.m. \nAll Welcome
CLASS:PUBLIC
STATUS:CONFIRMED
END:VEVENT
BEGIN:VEVENT
METHOD:PUBLISH
DTSTART:2017-11-11T11:00:00Z
DTEND:2017-11-12T11:00:00Z
SUMMARY:Henry Ford Day\, Claudelands Event Centre
UID:9
DESCRIPTION:Henry Ford Day\, Claudelands Event Centre. Hosted by the Waikato Mustang Owners Club.\nMeet at Ruahihi Dam 7.45am\, leaving 8am\nMeet at Cambridge Town Clock 9am
CLASS:PUBLIC
STATUS:CONFIRMED
END:VEVENT
BEGIN:VEVENT
METHOD:PUBLISH
DTSTART:2017-11-30T11:00:00Z
DTEND:2017-12-01T11:00:00Z
SUMMARY:Tauranga Toy Run
UID:10
DESCRIPTION:Tauranga Toy Run\, meet 6pm\, Truman Lane\, Mount
CLASS:PUBLIC
STATUS:CONFIRMED
END:VEVENT
BEGIN:VEVENT
METHOD:PUBLISH
DTSTART:2017-12-05T11:00:00Z
DTEND:2017-12-06T11:00:00Z
SUMMARY:Club Meeting
UID:11
DESCRIPTION:Club Meeting\, Cherokee Place\, Mt. Maunganui 7.30pm
CLASS:PUBLIC
STATUS:CONFIRMED
END:VEVENT
BEGIN:VEVENT
METHOD:PUBLISH
DTSTART:2017-12-09T11:00:00Z
DTEND:2017-12-10T11:00:00Z
SUMMARY:Our Meremere Drag day
UID:12
DESCRIPTION:Our Meremere Drag day\, all welcome to enter
CLASS:PUBLIC
STATUS:CONFIRMED
END:VEVENT
BEGIN:VEVENT
METHOD:PUBLISH
DTSTART:2018-01-06T11:00:00Z
DTEND:2018-01-06T11:00:00Z
SUMMARY:Club BBQ at Rotorua Lake
UID:13
DESCRIPTION:Meeting at Ultimate Motor Group\, Mt. Maunganui at 9.45am\, leaving at 10am\, meeting up with others at the Rotorua Lake Front corner of Tutanekai & Whakaue Streets at 11.30am\, we will have a BBQ available for everyone to use
CLASS:PUBLIC
STATUS:CONFIRMED
END:VEVENT
BEGIN:VEVENT
METHOD:PUBLISH
DTSTART:2018-02-06T11:00:00Z
DTEND:2018-02-07T11:00:00Z
SUMMARY:Club Meeting
UID:14
DESCRIPTION:Club Meeting\, Cherokee Place\, Mt. Maunganui 7.30pm
CLASS:PUBLIC
STATUS:CONFIRMED
END:VEVENT
BEGIN:VEVENT
METHOD:PUBLISH
DTSTART:2018-03-03T11:00:00Z
DTEND:2018-03-04T11:00:00Z
SUMMARY:ALL Ford Day 2018
UID:15
DESCRIPTION:ALL Ford Day 2018\, Blake Park\, Mt. Maunganui
CLASS:PUBLIC
STATUS:CONFIRMED
END:VEVENT
BEGIN:VEVENT
METHOD:PUBLISH
DTSTART:2017-11-18T11:00:00Z
DTEND:2017-11-19T11:00:00Z
SUMMARY:All USA DAY
UID:16
DESCRIPTION:All USA DAY\, hosted by BOP Mustang Club\, \nVenue - Classic Flyers Grass Area.\nContact Gus 0276688556 if going
CLASS:PUBLIC
STATUS:CONFIRMED
END:VEVENT
BEGIN:VEVENT
METHOD:PUBLISH
DTSTART:2017-11-23T11:00:00Z
DTEND:2017-11-24T11:00:00Z
SUMMARY:Drivers Bar Cruise
UID:17
DESCRIPTION:Drivers Bar Cruise 11th Ave Tauranga 6.30pm
CLASS:PUBLIC
STATUS:CONFIRMED
END:VEVENT
BEGIN:VEVENT
METHOD:PUBLISH
DTSTART:2017-11-25T11:00:00Z
DTEND:2017-11-26T11:00:00Z
SUMMARY:Stragglers Charity Car show
UID:18
DESCRIPTION:Stragglers Charity Car show\, format same as other years\, show runs 9am till 2pm\nMeet at lakes roundabout 8.45am\, leave 9.00am
CLASS:PUBLIC
STATUS:CONFIRMED
END:VEVENT
BEGIN:VEVENT
METHOD:PUBLISH
DTSTART:2018-03-20T11:00:00Z
DTEND:2018-03-25T11:00:00Z
SUMMARY:Beach Hop
UID:19
DESCRIPTION:Beach Hop
CLASS:PUBLIC
STATUS:CONFIRMED
END:VEVENT
END:VCALENDAR
